BEGIN:VCALENDAR
VERSION:2.0
PRODID:-// - ECPv6.15.20//NONSGML v1.0//EN
CALSCALE:GREGORIAN
METHOD:PUBLISH
X-ORIGINAL-URL:https://grindrestaurant.com
X-WR-CALDESC:Events for 
REFRESH-INTERVAL;VALUE=DURATION:PT1H
X-Robots-Tag:noindex
X-PUBLISHED-TTL:PT1H
BEGIN:VTIMEZONE
TZID:UTC
BEGIN:STANDARD
TZOFFSETFROM:+0000
TZOFFSETTO:+0000
TZNAME:UTC
DTSTART:20220101T000000
END:STANDARD
END:VTIMEZONE
BEGIN:VEVENT
DTSTART;TZID=UTC:20231008T090000
DTEND;TZID=UTC:20231008T140000
DTSTAMP:20260420T092409
CREATED:20231002T133434Z
LAST-MODIFIED:20231007T150827Z
UID:302-1696755600-1696773600@grindrestaurant.com
SUMMARY:Brunch!
DESCRIPTION:Sunday Brunch @ Grind
URL:https://grindrestaurant.com/event/brunch/
END:VEVENT
BEGIN:VEVENT
DTSTART;TZID=UTC:20231015T090000
DTEND;TZID=UTC:20231015T140000
DTSTAMP:20260420T092409
CREATED:20231007T150928Z
LAST-MODIFIED:20231007T150928Z
UID:324-1697360400-1697378400@grindrestaurant.com
SUMMARY:Sunday Brunch at Grind!
DESCRIPTION:
URL:https://grindrestaurant.com/event/sunday-brunch-at-grind/
END:VEVENT
BEGIN:VEVENT
DTSTART;TZID=UTC:20231017T110000
DTEND;TZID=UTC:20231018T210000
DTSTAMP:20260420T092409
CREATED:20231009T165539Z
LAST-MODIFIED:20231009T165933Z
UID:348-1697540400-1697662800@grindrestaurant.com
SUMMARY:Boyertown Football Fundraiser
DESCRIPTION:Boyertown Football Fundraiser \nAt Grind Restaurant \nAll Day October 17th and 18th \nCome out to Grind for lunch or dinner Monday 10/17 and Tuesday 10/18 to enjoy fabulous food while supporting the Boyertown School District Football Programs! \nDine in or take out on both dates. \nA portion of your bill will be donated back to our Boyertown Football programs. \nYou must present a printed copy of this or show your server from your mobile device.
URL:https://grindrestaurant.com/event/boyertown-football-fundraiser/
END:VEVENT
BEGIN:VEVENT
DTSTART;TZID=UTC:20231022T090000
DTEND;TZID=UTC:20231022T140000
DTSTAMP:20260420T092409
CREATED:20231007T150659Z
LAST-MODIFIED:20231007T150747Z
UID:321-1697965200-1697983200@grindrestaurant.com
SUMMARY:Sunday Brunch!
DESCRIPTION:
URL:https://grindrestaurant.com/event/sunday-brunch/
END:VEVENT
BEGIN:VEVENT
DTSTART;TZID=UTC:20231024T110000
DTEND;TZID=UTC:20231025T210000
DTSTAMP:20260420T092409
CREATED:20231009T165827Z
LAST-MODIFIED:20231009T170254Z
UID:350-1698145200-1698267600@grindrestaurant.com
SUMMARY:BASH Boyertown Cheerleading Fundraiser
DESCRIPTION:Boyertown Cheerleading Fundraiser \nAt Grind Restaurant \nAll Day October 17th and 18th \nCome out to Grind for lunch or dinner Tuesday 10/24 and Wednesday 10/25 to enjoy fabulous food while supporting the Boyertown School District Cheerleading Programs! \nDine in or take out on both dates. \nA portion of your bill will be donated back to our Boyertown Cheerleading programs. \nYou must present a printed copy of this or show your server from your mobile device.
URL:https://grindrestaurant.com/event/bash-boyertown-cheerleading-fundraiser/
END:VEVENT
END:VCALENDAR