BEGIN:VCALENDAR
VERSION:2.0
PRODID:-// - ECPv6.15.20//NONSGML v1.0//EN
CALSCALE:GREGORIAN
METHOD:PUBLISH
X-ORIGINAL-URL:https://grindrestaurant.com
X-WR-CALDESC:Events for 
REFRESH-INTERVAL;VALUE=DURATION:PT1H
X-Robots-Tag:noindex
X-PUBLISHED-TTL:PT1H
BEGIN:VTIMEZONE
TZID:UTC
BEGIN:STANDARD
TZOFFSETFROM:+0000
TZOFFSETTO:+0000
TZNAME:UTC
DTSTART:20230101T000000
END:STANDARD
END:VTIMEZONE
BEGIN:VEVENT
DTSTART;VALUE=DATE:20240331
DTEND;VALUE=DATE:20240401
DTSTAMP:20260420T114534
CREATED:20240323T165045Z
LAST-MODIFIED:20240323T171345Z
UID:812-1711843200-1711929599@grindrestaurant.com
SUMMARY:Easter Sunday - Closed
DESCRIPTION:Happy Easter! We are closed all day. We re-open at 4pm Monday for dinner.
URL:https://grindrestaurant.com/event/easter-sunday/
END:VEVENT
BEGIN:VEVENT
DTSTART;VALUE=DATE:20240401
DTEND;VALUE=DATE:20240402
DTSTAMP:20260420T114535
CREATED:20240323T165119Z
LAST-MODIFIED:20240323T165241Z
UID:814-1711929600-1712015999@grindrestaurant.com
SUMMARY:Easter Monday - Re-open at 4pm.
DESCRIPTION:We will re-open for dinner at 4pm-9pm.
URL:https://grindrestaurant.com/event/easter-monday-re-open-at-4pm/
END:VEVENT
BEGIN:VEVENT
DTSTART;VALUE=DATE:20240407
DTEND;VALUE=DATE:20240408
DTSTAMP:20260420T114535
CREATED:20240323T170645Z
LAST-MODIFIED:20240323T170645Z
UID:830-1712448000-1712534399@grindrestaurant.com
SUMMARY:Sunday Brunch! 9am-3pm
DESCRIPTION:Sunday Brunch 9am – 3pm! \nEvery Sunday morning. \n 
URL:https://grindrestaurant.com/event/sunday-brunch-9am-3pm/
END:VEVENT
BEGIN:VEVENT
DTSTART;TZID=UTC:20240509T110000
DTEND;TZID=UTC:20240512T200000
DTSTAMP:20260420T114535
CREATED:20240430T154519Z
LAST-MODIFIED:20240430T154600Z
UID:975-1715252400-1715544000@grindrestaurant.com
SUMMARY:2024 Mother's Day Specials!
DESCRIPTION:Mother’s Day Specials! \nCall 484-415-9318 to make reservations! \nReservations are HIGHLY recommended for Sunday 12th – Mother’s Day! \nSpecials available Thursday to Sunday\n!
URL:https://grindrestaurant.com/event/975/
END:VEVENT
BEGIN:VEVENT
DTSTART;TZID=UTC:20240512T100000
DTEND;TZID=UTC:20240512T200000
DTSTAMP:20260420T114535
CREATED:20240430T154813Z
LAST-MODIFIED:20240430T154851Z
UID:979-1715508000-1715544000@grindrestaurant.com
SUMMARY:Special Mother's Day Hours  May 12\, 2024 10am - 8pm  (Not serving Brunch)
DESCRIPTION:We will be open from 10am – 8pm on Mother’s Day! \nCall 484-415-9318 for reservations! (Highly recommended!!) \nHappy Mother’s Day! \n  \n  \n 
URL:https://grindrestaurant.com/event/special-mothers-day-hours-may-12-2024-not-serving-brunch/
END:VEVENT
BEGIN:VEVENT
DTSTART;VALUE=DATE:20240527
DTEND;VALUE=DATE:20240528
DTSTAMP:20260420T114535
CREATED:20240323T164935Z
LAST-MODIFIED:20240323T164935Z
UID:810-1716768000-1716854399@grindrestaurant.com
SUMMARY:Memorial Day 2024. Closed.
DESCRIPTION:Happy Memorial Day! Closed May 27.
URL:https://grindrestaurant.com/event/memorial-day-2024-closed/
END:VEVENT
BEGIN:VEVENT
DTSTART;TZID=UTC:20240528T110000
DTEND;TZID=UTC:20240529T210000
DTSTAMP:20260420T114535
CREATED:20240523T144748Z
LAST-MODIFIED:20240523T144748Z
UID:1047-1716894000-1717016400@grindrestaurant.com
SUMMARY:BASH TSA Fundraiser 2024
DESCRIPTION:We are excited and proud to be hosting another fundraiser for BASH TSA this coming Tuesday and Wednesday\, May 28 and 29! This year 15 students have made their way to the TSA National Conference in Orlando after much hard work and dedication getting through Regional and State conferences! A minimum of 15% of all sales from both dine-in and take-out will be donated when you present the flyer or show a copy from your phone/device. \nOpen for lunch from 11am to 3pm and we close at 9pm. Reservations are always appreciated and a great idea during fundraisers. Call 484-415-9318 for reservations or take-out orders. \nAlso a reminder\, we will be closed Memorial Day – Monday\, May 27.
URL:https://grindrestaurant.com/event/bash-tsa-fundraiser2024/
LOCATION:BASH TSA Fundraiser 2024\, 45 S. Reading Ave\, Boyertown\, 19512\, United States
END:VEVENT
BEGIN:VEVENT
DTSTART;VALUE=DATE:20240623
DTEND;VALUE=DATE:20240624
DTSTAMP:20260420T114535
CREATED:20240323T165941Z
LAST-MODIFIED:20240323T165941Z
UID:816-1719100800-1719187199@grindrestaurant.com
SUMMARY:Summer Vacation Sell Off!
DESCRIPTION:Summer Vacation closure food sell-off!\nNot offering regular service.
URL:https://grindrestaurant.com/event/summer-vacation-sell-off/
END:VEVENT
BEGIN:VEVENT
DTSTART;VALUE=DATE:20240624
DTEND;VALUE=DATE:20240710
DTSTAMP:20260420T114535
CREATED:20240323T170135Z
LAST-MODIFIED:20240323T170407Z
UID:822-1719187200-1720569599@grindrestaurant.com
SUMMARY:Closed for staff vacations and renovations. See you July 10th!
DESCRIPTION:We will be closed until July 9. \nHappy Independence Day!
URL:https://grindrestaurant.com/event/closed-for-staff-vacations-and-renovations/
END:VEVENT
BEGIN:VEVENT
DTSTART;VALUE=DATE:20240902
DTEND;VALUE=DATE:20240903
DTSTAMP:20260420T114535
CREATED:20240323T164841Z
LAST-MODIFIED:20240323T164841Z
UID:808-1725235200-1725321599@grindrestaurant.com
SUMMARY:Labor Day. Closed today.
DESCRIPTION:Monday September 2\, 2024. \nHappy Labor Day! \nClosed all day.
URL:https://grindrestaurant.com/event/labor-day-closed-today/
END:VEVENT
BEGIN:VEVENT
DTSTART;TZID=UTC:20240908T090000
DTEND;TZID=UTC:20240908T140000
DTSTAMP:20260420T114535
CREATED:20240820T150259Z
LAST-MODIFIED:20240820T150259Z
UID:1427-1725786000-1725804000@grindrestaurant.com
SUMMARY:Brunch Starts With New Menu!
DESCRIPTION:Sunday Brunch is back.\nNew menu\, same fresh food!
URL:https://grindrestaurant.com/event/brunch-starts-with-new-menu/
END:VEVENT
BEGIN:VEVENT
DTSTART;VALUE=DATE:20241128
DTEND;VALUE=DATE:20241130
DTSTAMP:20260420T114535
CREATED:20240323T164716Z
LAST-MODIFIED:20240323T164716Z
UID:806-1732752000-1732924799@grindrestaurant.com
SUMMARY:Thanksgiving 2024. Closed all day.
DESCRIPTION:Closed November 28 and 29. Happy Thanksgiving to everyone!
URL:https://grindrestaurant.com/event/thanksgiving-2024-closed-all-day/
END:VEVENT
BEGIN:VEVENT
DTSTART;TZID=UTC:20241201T090000
DTEND;TZID=UTC:20241201T140000
DTSTAMP:20260420T114535
CREATED:20241123T120549Z
LAST-MODIFIED:20241123T120549Z
UID:2084-1733043600-1733061600@grindrestaurant.com
SUMMARY:Santa Brunch Buffet!
DESCRIPTION:Click HERE for flyer. \nSanta BRUNCH BUFFET \n9am-2pm! \nCall for reservations 484-415-9318 \nSanta Clause is coming to town!
URL:https://grindrestaurant.com/event/santa-brunch-buffet/
LOCATION:Grind Brunch
END:VEVENT
BEGIN:VEVENT
DTSTART;VALUE=DATE:20241224
DTEND;VALUE=DATE:20241225
DTSTAMP:20260420T114535
CREATED:20240323T164430Z
LAST-MODIFIED:20240323T164430Z
UID:802-1734998400-1735084799@grindrestaurant.com
SUMMARY:Christmas 2024 - Closed
DESCRIPTION:Closed December 24 and 25. Merry Christmas to all!
URL:https://grindrestaurant.com/event/christmas-2024-closed/
END:VEVENT
BEGIN:VEVENT
DTSTART;VALUE=DATE:20241225
DTEND;VALUE=DATE:20241226
DTSTAMP:20260420T114535
CREATED:20240323T164528Z
LAST-MODIFIED:20240323T164528Z
UID:804-1735084800-1735171199@grindrestaurant.com
SUMMARY:Christmas 2024. Closed all day.
DESCRIPTION:Closed December 24 and 25. Merry Christmas to all!
URL:https://grindrestaurant.com/event/christmas-2024-closed-all-day/
END:VEVENT
BEGIN:VEVENT
DTSTART;VALUE=DATE:20241226
DTEND;VALUE=DATE:20241227
DTSTAMP:20260420T114535
CREATED:20240323T164330Z
LAST-MODIFIED:20240323T164330Z
UID:800-1735171200-1735257599@grindrestaurant.com
SUMMARY:December 26\, 2024 - Closed for lunch.
DESCRIPTION:Closed for lunch\, will open at 4pm – 9pm for dinner.
URL:https://grindrestaurant.com/event/december-26-2024-closed-for-lunch/
END:VEVENT
BEGIN:VEVENT
DTSTART;VALUE=DATE:20241231
DTEND;VALUE=DATE:20250101
DTSTAMP:20260420T114535
CREATED:20240323T171049Z
LAST-MODIFIED:20240323T171049Z
UID:832-1735603200-1735689599@grindrestaurant.com
SUMMARY:New Years Eve- Closed for lunch.
DESCRIPTION:Open with Special Menu 4pm-8pm. \n  \nHappy New Year!
URL:https://grindrestaurant.com/event/new-years-eve-closed-for-lunch/
END:VEVENT
BEGIN:VEVENT
DTSTART;VALUE=DATE:20250101
DTEND;VALUE=DATE:20250102
DTSTAMP:20260420T114535
CREATED:20240323T164211Z
LAST-MODIFIED:20240323T164211Z
UID:798-1735689600-1735775999@grindrestaurant.com
SUMMARY:New Years Day 2025
DESCRIPTION:Closed all day. Happy New Year!
URL:https://grindrestaurant.com/event/new-years-day-2025/
END:VEVENT
BEGIN:VEVENT
DTSTART;TZID=UTC:20250330T133000
DTEND;TZID=UTC:20250330T153000
DTSTAMP:20260420T114535
CREATED:20250325T225036Z
LAST-MODIFIED:20250325T225036Z
UID:2895-1743341400-1743348600@grindrestaurant.com
SUMMARY:
DESCRIPTION:We will be closing early after Sunday Brunch at 1:30pm and reopening for dinner at 3:30pm. We need the time for a staff meeting and apologize for any inconvience.
URL:https://grindrestaurant.com/event/2895/
END:VEVENT
BEGIN:VEVENT
DTSTART;TZID=UTC:20250420T100000
DTEND;TZID=UTC:20250420T140000
DTSTAMP:20260420T114535
CREATED:20250418T174907Z
LAST-MODIFIED:20250418T174907Z
UID:3175-1745143200-1745157600@grindrestaurant.com
SUMMARY:Easter Brunch
DESCRIPTION:  \nFor this event\, we will not be serving our normal Brunch Menu. We apologize for any inconvenience. We will only be open for Brunch and will close at 2pm so our staff can have time to spend with their families. We apologize for any inconvenience. Have a great Easter!
URL:https://grindrestaurant.com/event/easter-brunch/
END:VEVENT
BEGIN:VEVENT
DTSTART;TZID=UTC:20250504T133000
DTEND;TZID=UTC:20250504T235900
DTSTAMP:20260420T114535
CREATED:20250325T225220Z
LAST-MODIFIED:20250327T131659Z
UID:2897-1746365400-1746403140@grindrestaurant.com
SUMMARY:
DESCRIPTION:  \n  \nWe will be closing early after Sunday Brunch at 1:30pm.  We will be closed the remainder of the day. We apologize for any inconvience.
URL:https://grindrestaurant.com/event/2897/
END:VEVENT
BEGIN:VEVENT
DTSTART;VALUE=DATE:20251125
DTEND;VALUE=DATE:20251126
DTSTAMP:20260420T114535
CREATED:20251125T153311Z
LAST-MODIFIED:20251125T153326Z
UID:4077-1764028800-1764115199@grindrestaurant.com
SUMMARY:Closed New Years Day
DESCRIPTION:Happy 2026! \n  \nClosed for New Years Day.
URL:https://grindrestaurant.com/event/closed-new-years-day/
END:VEVENT
BEGIN:VEVENT
DTSTART;TZID=UTC:20251125T110000
DTEND;TZID=UTC:20251125T200000
DTSTAMP:20260420T114535
CREATED:20251125T153224Z
LAST-MODIFIED:20251125T153224Z
UID:4074-1764068400-1764100800@grindrestaurant.com
SUMMARY:New Years Eve Hours
DESCRIPTION:Open from 11am with last seating at 8pm. \n  \nHappy New Year everyone!
URL:https://grindrestaurant.com/event/new-years-eve-hours/
END:VEVENT
BEGIN:VEVENT
DTSTART;VALUE=DATE:20251127
DTEND;VALUE=DATE:20251128
DTSTAMP:20260420T114535
CREATED:20251125T152643Z
LAST-MODIFIED:20251125T152643Z
UID:4063-1764201600-1764287999@grindrestaurant.com
SUMMARY:Closed for Thanksgiving
DESCRIPTION:Closed for Thanksgiving! \nA happy and safe Thanksgiving to all! \nRe-open Friday at 3pm for dinner service.
URL:https://grindrestaurant.com/event/closed-for-thanksgiving/
END:VEVENT
BEGIN:VEVENT
DTSTART;TZID=UTC:20251128T150000
DTEND;TZID=UTC:20251128T220000
DTSTAMP:20260420T114535
CREATED:20251125T152759Z
LAST-MODIFIED:20251125T152759Z
UID:4066-1764342000-1764367200@grindrestaurant.com
SUMMARY:Open 3pm-10pm for dinner service.
DESCRIPTION:Opening at 3pm after the Thanksgiving holiday for normal dinner service.
URL:https://grindrestaurant.com/event/open-3pm-10pm-for-dinner-service/
END:VEVENT
BEGIN:VEVENT
DTSTART;TZID=UTC:20251204T180000
DTEND;TZID=UTC:20251204T210000
DTSTAMP:20260420T114535
CREATED:20251124T160940Z
LAST-MODIFIED:20251124T160940Z
UID:4033-1764871200-1764882000@grindrestaurant.com
SUMMARY:Wine Night  Lionel Osmin & Cie
DESCRIPTION:December 4\, 2025\n6pm \nFeaturing Lionel Osmis & Cie \nCall today for your reservation. 484-415-9318
URL:https://grindrestaurant.com/event/wine-night-lionel-osmin-cie/
END:VEVENT
BEGIN:VEVENT
DTSTART;TZID=UTC:20251207T100000
DTEND;TZID=UTC:20251207T140000
DTSTAMP:20260420T114535
CREATED:20251124T161202Z
LAST-MODIFIED:20251124T161202Z
UID:4037-1765101600-1765116000@grindrestaurant.com
SUMMARY:Brunch with Santa December 7\, 2025
DESCRIPTION:Brunch with Santa \nDecember 7th\, 2025 \nReservations are required for this event.\nCall 484-418-9318 \n 
URL:https://grindrestaurant.com/event/brunch-with-santa-december-7-2025/
END:VEVENT
BEGIN:VEVENT
DTSTART;TZID=UTC:20251224T110000
DTEND;TZID=UTC:20251224T190000
DTSTAMP:20260420T114535
CREATED:20251125T153114Z
LAST-MODIFIED:20251125T153114Z
UID:4072-1766574000-1766602800@grindrestaurant.com
SUMMARY:Open Christmas Eve 11am-7pm
DESCRIPTION:Finish off your holiday shopping at Grind. We will be open at 11am and last seating is at 7pm. \nReservations are recommended for planned dining times between 4pm and 7pm. \n  \n 
URL:https://grindrestaurant.com/event/open-christmas-eve-11am-7pm/
END:VEVENT
BEGIN:VEVENT
DTSTART;VALUE=DATE:20251225
DTEND;VALUE=DATE:20251226
DTSTAMP:20260420T114535
CREATED:20251125T152900Z
LAST-MODIFIED:20251125T152900Z
UID:4069-1766620800-1766707199@grindrestaurant.com
SUMMARY:Closed for Christmas Day
DESCRIPTION:Closed today for Christmas. \n  \nMerry Christmas to all!
URL:https://grindrestaurant.com/event/closed-for-christmas-day/
END:VEVENT
END:VCALENDAR